BEGIN:VCALENDAR
VERSION:2.0
PRODID:-//Ecogobtur - ECPv6.10.1.1//NONSGML v1.0//EN
CALSCALE:GREGORIAN
METHOD:PUBLISH
X-WR-CALNAME:Ecogobtur
X-ORIGINAL-URL:https://ecogobtur.eu
X-WR-CALDESC:Eventos para Ecogobtur
REFRESH-INTERVAL;VALUE=DURATION:PT1H
X-Robots-Tag:noindex
X-PUBLISHED-TTL:PT1H
BEGIN:VTIMEZONE
TZID:UTC
BEGIN:STANDARD
TZOFFSETFROM:+0000
TZOFFSETTO:+0000
TZNAME:UTC
DTSTART:20230101T000000
END:STANDARD
END:VTIMEZONE
BEGIN:VEVENT
DTSTART;VALUE=DATE:20230307
DTEND;VALUE=DATE:20230310
DTSTAMP:20260425T013944
CREATED:20230307T210846Z
LAST-MODIFIED:20230308T045224Z
UID:4219-1678147200-1678406399@ecogobtur.eu
SUMMARY:Partnerships for Sustainable Cities
DESCRIPTION:La Comisión Europea organiza la primera reunión del Comité de Coordinación del programa apoyado por la UE «Partnerships for Sustainable Cities» (Asociaciones para Ciudades Sostenibles) que tendrá lugar en Bruselas\, Bélgica\, del 7 al 9 de marzo de 2023. \nEl evento reunirá a las partes interesadas de las 57 asociaciones de ciudades que participan en el programa global respaldado por la UE. El objetivo del encuentro es tener interacciones cara a cara\, por primera vez\, entre los diferentes proyectos sobre una amplia gama de temas de interés común.
URL:https://ecogobtur.eu/evento/partnerships-for-sustainable-cities/
LOCATION:Huelva
END:VEVENT
END:VCALENDAR