BEGIN:VCALENDAR
VERSION:2.0
PRODID:-//Ecogobtur - ECPv6.10.1.1//NONSGML v1.0//EN
CALSCALE:GREGORIAN
METHOD:PUBLISH
X-ORIGINAL-URL:https://ecogobtur.eu
X-WR-CALDESC:Eventos para Ecogobtur
REFRESH-INTERVAL;VALUE=DURATION:PT1H
X-Robots-Tag:noindex
X-PUBLISHED-TTL:PT1H
BEGIN:VTIMEZONE
TZID:America/New_York
BEGIN:DAYLIGHT
TZOFFSETFROM:-0500
TZOFFSETTO:-0400
TZNAME:EDT
DTSTART:20240310T070000
END:DAYLIGHT
BEGIN:STANDARD
TZOFFSETFROM:-0400
TZOFFSETTO:-0500
TZNAME:EST
DTSTART:20241103T060000
END:STANDARD
TZID:UTC
BEGIN:STANDARD
TZOFFSETFROM:+0000
TZOFFSETTO:+0000
TZNAME:UTC
DTSTART:20250101T000000
END:STANDARD
END:VTIMEZONE
BEGIN:VEVENT
DTSTART;VALUE=DATE:20240816
DTEND;VALUE=DATE:20240818
DTSTAMP:20260422T005812
CREATED:20240810T140956Z
LAST-MODIFIED:20240810T140956Z
UID:4550-1723766400-1723939199@ecogobtur.eu
SUMMARY:EXPO MIRA TUR 2024
DESCRIPTION:EXPO MIRA TUR 2024 \nPACTO LOCAL POR EL AMBIENTE Y EL TURISMO SOSTENIBLE \nMira\, Carchi. 16 y 17 de agosto de 2024 \nOrganizado por el proyecto #ecogobtur cofinanciado por la Unión Europea. Se trata del primer encuentro de autoridades locales\, organizaciones sociales\, asociaciones de gobiernos locales\, empresas\, ONG\, universidades y expertos se reúnen en el marco del proyecto Ecogobtur\, para impulsar alianzas locales y posicionar el turismo rural sostenible en la zona norte del Ecuador\, en la construcción de un Pacto Local por el Ambiente y el Turismo Sostenible. \nLa feria EXPOMIRATUR 2024\, es un espacio cultural de intercambio de todo tipo\, emprendimientos\, puntos de vista\, ideas\, proyectos\, destinos… que conecten Carchi a nivel nacional e internacional. \nEste proyecto es cofinanciado @ueecuador a través del @aytolapalmadelcondado de España y cuenta con tres socios: #GADMira #GADMontufar #GADCarchi Síguenos en nuestras redes sociales para mantenerte informado 📱🖥️📱
URL:https://ecogobtur.eu/evento/expo-mira-tur-2024/
LOCATION:https://maps.app.goo.gl/L2i5Ty6i9H4x7XwG9\, Parque Juan Montalvo - Edificio Municipal\, Mira\, Carchi\, Ecuador
END:VEVENT
BEGIN:VEVENT
DTSTART;VALUE=DATE:20251208
DTEND;VALUE=DATE:20251213
DTSTAMP:20260422T005812
CREATED:20251203T111857Z
LAST-MODIFIED:20251203T111857Z
UID:4738-1765152000-1765583999@ecogobtur.eu
SUMMARY:Intercambio de Experiencias de OSC en Andalucía – Proyecto ECOGOBTUR
DESCRIPTION:El Ayuntamiento de La Palma del Condado organiza el Intercambio de Experiencias de Organizaciones de la Sociedad Civil (OSC) en Andalucía\, en el marco del proyecto ECOGOBTUR: Empoderamiento de Comunidades y Gobiernos Rurales a través del Turismo Sostenible en el Carchi\, subvencionado por la Unión Europea mediante el Programa EuropeAid/167744/DH/ACT/Multi-3. \nEl evento busca fomentar un encuentro técnico y comunitario entre funcionarios públicos y OSC de Carchi (Ecuador) y Andalucía (España)\, con el objetivo de fortalecer capacidades institucionales\, compartir metodologías innovadoras y promover modelos de turismo sostenible con enfoque territorial. \nDurante el intercambio se abordarán temas como: ecogestión\, gobernanza local\, economía circular\, participación comunitaria\, innovación social y turismo rural sostenible. Además\, se promoverá la cooperación entre organizaciones de ambos territorios\, fortaleciendo redes de conocimiento y alianzas estratégicas. \nLa delegación visitante incluye dos técnicos en ecologización y cuatro asociaciones ecuatorianas que presentarán sus experiencias en gastronomía tradicional\, gestión de bosques\, producción láctea sostenible y turismo agroecológico. \nObjetivos principales: \n\n\nFomentar el aprendizaje colectivo entre OSC ecuatorianas y andaluzas. \n\n\nConsolidar alianzas estratégicas y redes de cooperación. \n\n\nObservar buenas prácticas europeas en sostenibilidad\, inclusión y economía verde. \n\n\nPromover la participación comunitaria y el turismo sostenible con enfoque territorial. \n\n\nFecha: 9 al 12 de diciembre de 2025 \nLugar: La Palma del Condado y otras localidades de la provincia de Huelva\, España \nDirigido a: Asociaciones\, organizaciones de la sociedad civil\, autoridades locales y público interesado en turismo sostenible y cooperación internacional. \nEl proyecto EOGOBTUR  es cofinanciado por la Unión Europea en Ecuador\, siendo socio el Ayuntamiento de La Palma del Condado de España\, y cuenta con tres socios estratégicos: el Gobierno Autónomo Descentralizado del Cantón Mira\, el GAD Municipal de Montúfar y la Prefectura del Carchi. Así mismo cuenta con el apoyo técnico de FAMSI.
URL:https://ecogobtur.eu/evento/intercambio-de-experiencias-de-osc-en-andalucia-proyecto-ecogobtur/
LOCATION:https://goo.su/wzZG\, Ayuntamiento de La Palma del Condado\, La Palma del Condado\, Huelva\, 21700\, Spain
CATEGORIES:Intercambio
ATTACH;FMTTYPE=image/jpeg:https://ecogobtur.eu/wp-content/uploads/2022/08/NOTICIA1-FOTO-1.jpg
ORGANIZER;CN="Ayuntamiento de La Palma del Condado":MAILTO:ayuntamiento@lapalmadelcondado.org
END:VEVENT
END:VCALENDAR